Workbook

Sheet VZ 2015-2017 Balanace Sheet
C2: RATIOS AND AVERAGES ARE LOCATED ON LAST TAB
A4: Powered by Clearbit
A5: Verizon Communications Inc (NYS: VZ)
A7: Exchange rate used is that of the Year End reported date
A10: As Reported Annual Balance Sheet
A11: Report Date | B11: 12/31/2017 | D11: 12/31/2016 | F11: 12/31/2015
A12: Currency | B12: USD | D12: USD | F12: USD
A13: Audit Status | B13: Not Qualified | D13: Not Qualified | F13: Not Qualified
A14: Consolidated | B14: Yes | D14: Yes | F14: Yes
A15: Scale | B15: Thousands | D15: Thousands | F15: Thousands
A16: Cash & cash equivalents | B16: 2079000 | D16: 2880000 | F16: 4470000
A17: Short-term investments | B17: - | D17: - | F17: 350000
A18: Accounts receivable, gross | B18: 24432000 | D18: 18358000 | F18: 14339000
A19: Less: allowances - accounts receivable | B19: 939000 | D19: 845000 | F19: 882000
A20: Accounts receivable, net | B20: 23493000 | D20: 17513000 | F20: 13457000
A21: Inventories | B21: 1034000 | D21: 1202000 | F21: 1252000
A22: Assets held for sale | B22: - | D22: 882000 | F22: 792000
A23: Prepaid expenses & other current assets | B23: 3307000 | D23: 3918000 | F23: 1959000
A24: Total current assets | B24: 29913000 | D24: 26395000 | F24: 22280000
A25: Land | B25: 806000 | D25: 667000 | F25: 709000
A26: Buildings & equipment | B26: 28914000 | D26: 27117000 | F26: 25587000
A27: Central office & other network equipment | B27: 145093000 | D27: 136737000 | F27: 129201000
A28: Cable, wiring & conduit | B28: - | D28: - | F28: 44290000
A29: Cable, poles & conduit | B29: 47972000 | D29: 45639000 | F29: -
A30: Leasehold improvements | B30: 8394000 | D30: 7627000 | F30: 7104000
A31: Work in progress | B31: 6139000 | D31: 5710000 | F31: 4907000
A32: Furniture, vehicles & other plant, property & equipment | B32: 9180000 | D32: 8718000 | F32: 8365000
A33: Plant, property & equipment | B33: 246498000 | D33: 232215000 | F33: 220163000
A34: Less: accumulated depreciation | B34: 157930000 | D34: 147464000 | F34: 136622000
A35: Plant, property & equipment, net | B35: 88568000 | D35: 84751000 | F35: 83541000
A36: Investments in unconsolidated businesses | B36: 1039000 | D36: 1110000 | F36: 796000
A37: Wireless licenses | B37: 88417000 | D37: 86673000 | F37: 86575000
A38: Goodwill | B38: 29172000 | D38: 27205000 | F38: 25331000
A39: Other intangible assets, net | B39: 10247000 | D39: 8897000 | F39: 8338000
A40: Non-current assets held for sale | B40: - | D40: 613000 | F40: 10267000
A41: Other assets | B41: 9787000 | D41: 8536000 | F41: 7512000
A42: Total assets | B42: 257143000 | D42: 244180000 | F42: 244640000
A43: Long-term debt maturing within one year | B43: 3303000 | D43: 2477000 | F43: 6325000
A44: Short-term notes payable | B44: 150000 | D44: 168000 | F44: 158000
A45: Commercial paper & other short-term debt | B45: - | D45: - | F45: 6000
...

Sheet VZ 2015-2017 Income Statement
A1: Verizon Communications Inc (NYS: VZ)
A3: Exchange rate used is that of the Year End reported date
A6: As Reported Annual Income Statement
A7: Report Date | B7: 43100 | D7: 42735 | F7: 42369
A8: Currency | B8: USD | D8: USD | F8: USD
A9: Audit Status | B9: Not Qualified | D9: Not Qualified | F9: Not Qualified
A10: Consolidated | B10: Yes | D10: Yes | F10: Yes
A11: Scale | B11: Thousands | D11: Thousands | F11: Thousands
A12: Service revenues & other revenues | B12: 107145000 | D12: 108468000 | F12: 114696000
A13: Wireless equipment revenues | B13: 18889000 | D13: 17512000 | F13: 16924000
A14: Total operating revenues | B14: 126034000 | D14: 125980000 | F14: 131620000
A15: Cost of services (exclusive of items shown below) | B15: 29409000 | D15: 29186000 | F15: 29438000
A16: Wireless cost of equipment | B16: 22147000 | D16: 22238000 | F16: 23119000
A17: Selling, general & administrative expense, net | B17: 30110000 | D17: 31569000 | F17: 29986000
A18: Depreciation & amortization expense | B18: 16954000 | D18: 15928000 | F18: 16017000
A19: Total operating expenses | B19: 98620000 | D19: 98921000 | F19: 98560000
A20: Operating income | B20: 27414000 | D20: 27059000 | F20: 33060000
A21: Equity in earnings (losses) of unconsolidated businesses | B21: -77000 | D21: -98000 | F21: -86000
A22: Interest income | B22: 82000 | D22: 59000 | F22: 115000
A23: Other income (expense), net | B23: -2092000 | D23: -1658000 | F23: 71000
... A49: Foreign currency translation adjustments | B49: 245000 | D49: -159000 | F49: -208000
A52: References
A54: Mergent Online. (2018). Company A Retrieved November 12, 2018 from:
A55: http://www.mergentonline.com.ezproxy.snhu.edu/companyfinancials.php?pagetype=asreported&compnumber=36979&period=Annuals&dataarea=PL&range=3&currency=AsRep&scale=AsRep&Submit=Refresh

Sheet VZ 2015-2017 Cash Flow
A1: Verizon Communications Inc (NYS: VZ)
A3: Exchange rate used is that of the Year End reported date
A6: As Reported Annual Cash Flow
A7: Report Date | B7: 43100 | D7: 42735 | F7: 42369
A8: Currency | B8: USD | D8: USD | F8: USD
A9: Audit Status | B9: Not Qualified | D9: Not Qualified | F9: Not Qualified
A10: Consolidated | B10: Yes | D10: Yes | F10: Yes
A11: Scale | B11: Thousands | D11: Thousands | F11: Thousands
A12: Net income (loss) | B12: 30550000 | D12: 13608000 | F12: 18375000
A13: Depreciation & amortization expense | B13: 16954000 | D13: 15928000 | F13: 16017000
A14: Employee retirement benefits | B14: 440000 | D14: 2705000 | F14: -1747000
A15: Deferred income taxes | B15: -14463000 | D15: -1063000 | F15: 3516000
A16: Provision for uncollectible accounts | B16: 1167000 | D16: 1420000 | F16: 1610000
A17: Equity in losses (earnings) of unconsolidated businesses, net of dividends received | B17: 117000 | D17: 138000 | F17: 127000
A18: Accounts receivable | B18: -5436000 | D18: -5067000 | F18: -945000
A19: Inventories | B19: 168000 | D19: 61000 | F19: -99000
A20: Other assets | B20: 656000 | D20: 449000 | F20: 942000
A21: Accounts payable & accrued liabilities | B21: -335000 | D21: -1079000 | F21: 2545000
A22: Discretionary contribution to qualified pension plans | B22: -3411000 | D22: - | F22: -
A23: Net gain on sale of divested businesses | B23: -1774000 | D23: - | F23: -
A24: Other operating activities, net | B24: 672000 | D24: -4385000 | F24: -1411000
A25: Net cash flows from operating activities | B25: 25305000 | D25: 22715000 | F25: 38930000
A26: Capital expenditures (including capital software) | B26: -17247000 | D26: -17059000 | F26: -17775000
A27: Acquisitions of investments & businesses, net of cash acquired | B27: -5928000 | D27: -3765000 | F27: -3545000
A28: Acquisitions of wireless licenses | B28: -583000 | D28: -534000 | F28: -9942000
A29: Proceeds from disposition of businesses | B29: 3614000 | D29: 9882000 | F29: 48000
A30: Other investing activities, net | B30: 772000 | D30: 493000 | F30: 1171000
A31: Net cash flows from investing activities | B31: -19372000 | D31: -10983000 | F31: -30043000
A32: Proceeds from long-term borrowings | B32: 27707000 | D32: 12964000 | F32: 6667000
A33: Proceeds from asset-backed long-term borrowings | B33: 4290000 | D33: 4986000 | F33: -
A34: Repayments of long-term borrowings & capital lease obligations | B34: -23837000 | D34: -19159000 | F34: -9340000
A35: Repayments of asset-backed long-term borrowings | B35: -400000 | D35: - | F35: -
A36: Decrease (increase) in short-term obligations, excluding current maturities | B36: -170000 | D36: -149000 | F36: -344000
A37: Dividends paid | B37: -9472000 | D37: -9262000 | F37: -8538000
A38: Proceeds from sale of common stock | B38: - | D38: 3000 | F38: 40000
A39: Purchase of common stock for treasury | B39: - | D39: - | F39: -5134000
A40: Other financing activities, net | B40: -4852000 | D40: -2705000 | F40: 1634000
A41: Net cash flows from financing activities | B41: -6734000 | D41: -13322000 | F41: -15015000
A42: Increase (decrease) in cash & cash equivalents | B42: -801000 | D42: -1590000 | F42: -6128000
A43: Cash & cash equivalents, beginning of period | B43: 2880000 | D43: 4470000 | F43: 10598000
...

Sheet VZ 2015-2017 Stock History
A1: Powered by Clearbit
A2: Verizon Communications Inc (NYS: VZ)
A5: Issue: Verizon Communications Inc(NYS:VZ)
A6: Time Period: 3 years
A7: Frequency: daily
A8: Adjusted Prices
A10: Historical Pricing
A11: Date | B11: Open | C11: High | D11: Low | E11: Close | F11: Volume | G11: Price Move (%)
A12: 43098 | B12: 53.37 | C12: 53.46 | D12: 52.93 | E12: 52.93 | F12: 9993282 | G12: -0.94
A13: 43097 | B13: 53.41 | C13: 53.55 | D13: 53.16 | E13: 53.43 | F13: 6725691 | G13: 0.28
A14: 43096 | B14: 53.41 | C14: 53.5 | D14: 53.09 | E14: 53.28 | F14: 8361890 | G14: 0.11
A15: 43095 | B15: 53.13 | C15: 53.69 | D15: 53.13 | E15: 53.22 | F15: 6595384 | G15: 0.06
A16: 43091 | B16: 53.11 | C16: 53.63 | D16: 53.06 | E16: 53.19 | F16: 13657015 | G16: 0.34
A17: 43090 | B17: 52.81 | C17: 53.6 | D17: 52.605 | E17: 53.01 | F17: 12778042 | G17: 0.45
A18: 43089 | B18: 53.11 | C18: 53.35 | D18: 52.68 | E18: 52.77 | F18: 11643090 | G18: -0.11
A19: 43088 | B19: 53.27 | C19: 53.59 | D19: 52.695 | E19: 52.83 | F19: 14239371 | G19: -0.79
A20: 43087 | B20: 52.94 | C20: 53.39 | D20: 52.66 | E20: 53.25 | F20: 15874323 | G20: 1.1
A21: 43084 | B21: 52.57 | C21: 52.89 | D21: 52.39 | E21: 52.67 | F21: 28935372 | G21: 0.63
A22: 43083 | B22: 52.6 | C22: 52.74 | D22: 52.085 | E22: 52.34 | F22: 18773693 | G22: -1.04
A23: 43082 | B23: 52.99 | C23: 53.19 | D23: 52.28 | E23: 52.89 | F23: 17704769 | G23: -0.56
... A766: 42006 | B766: 47 | C766: 47.23 | D766: 46.91 | E766: 46.96 | F766: 11421134 | G766: 0.38
A768: Refrences
A770: Mergent Online. (2018). Company A Retrieved November 12, 2018 from:
A771: =HYPERLINK("http://www.mergentonline.com.ezproxy.snhu.edu/equitypricing.php?ddexchange=92343V104%7C1&timeperiod=3+years&datetype=userdefrange&datestartuserdef=01%2F01%2F2015&dateenduserdef=12%2F31%2F2017&frequency=daily&compnumber=36979&pagetype=report&selectedissue="&"Verizon+Communications+Inc%28NYS%3AVZ%29&refreshequityreport=Refresh","http://www.mergentonline.com.ezproxy.snhu.edu/equitypricing.php?ddexchange=92343V104%7C1&timeperiod=3+years&datetype=userdefrange&datestartuserdef=01%2F01%2F2015&dateenduserdef=12%2F31%2F2017&frequency=daily&compnumber=36979&pagetype=report&selectedissue="&"Verizon+Communications+Inc%28NYS%3AVZ%29&refreshequityreport=Refresh") -> http://www.mergentonline.com.ezproxy.snhu.edu/equitypricing.php?ddexchange=92343V104%7C1&timeperiod=3+years&datetype=userdefrange&datestartuserdef=01%2F01%2F2015&dateenduserdef=12%2F31%2F2017&frequency=daily&compnumber=36979&pagetype=report&selectedissue=Verizon+Communications+Inc%28NYS%3AVZ%29&refreshequityreport=Refresh

Sheet ATT 2015-2017 Balance Sheet
A1: AT&T Inc (NYS: T)
A3: Exchange rate used is that of the Year End reported date
A6: As Reported Annual Balance Sheet
A7: Report Date | B7: 43100 | D7: 42735 | F7: 42369
A8: Currency | B8: USD | D8: USD | F8: USD
A9: Audit Status | B9: Not Qualified | D9: Not Qualified | F9: Not Qualified
A10: Consolidated | B10: Yes | D10: Yes | F10: Yes
A11: Scale | B11: Thousands | D11: Thousands | F11: Thousands
A12: Cash & cash equivalents | B12: 50498000 | D12: 5788000 | F12: 5121000
A13: Accounts receivable, gross | B13: 17185000 | D13: 17455000 | F13: 17236000
A14: Less alllowances for doubtful accounts | B14: 663000 | D14: 661000 | F14: 704000
A15: Accounts receivable, net | B15: 16522000 | D15: 16794000 | F15: 16532000
A16: Prepaid expenses | B16: 1369000 | D16: 1555000 | F16: 1072000
A17: Other current assets | B17: 10757000 | D17: 14232000 | F17: 13267000
A18: Total current assets | B18: 79146000 | D18: 38369000 | F18: 35992000
A19: Land | B19: 1630000 | D19: 1643000 | F19: 1638000
A20: Buildings & improvements | B20: 36319000 | D20: 35036000 | F20: 33784000
A21: Central office equipment | B21: 94076000 | D21: 92954000 | F21: 93643000
A22: Cable, wiring & conduit | B22: 67695000 | D22: 79279000 | F22: 75784000
A23: Satellites | B23: 2967000 | D23: 2710000 | F23: 2088000
... A54: Capitalized leases | B54: 1818000 | D54: 869000 | F54: 884000
A55: Other debt | B55: - | D55: 259000 | F55: 416000
A56: Total long-term debt, including current maturities | B56: 164344000 | D56: 123509000 | F56: 126147000
A57: Current maturities of long-term debt | B57: 38372000 | D57: 9828000 | F57: 7632000
A58: Long-term debt | B58: 125972000 | D58: 113681000 | F58: 118515000
A59: Deferred income taxes | B59: 43207000 | D59: 60128000 | F59: 56181000
A60: Postemployment benefit obligation | B60: 31775000 | D60: 33578000 | F60: 34262000
A61: Other noncurrent liabilities | B61: 19747000 | D61: 21748000 | F61: 22258000
A62: Total deferred credits & other noncurrent liabilities | B62: 94729000 | D62: 115454000 | F62: 112701000
A63: Common stock | B63: 6495000 | D63: 6495000 | F63: 6495000
A64: Additional paid-in capital | B64: 89563000 | D64: 89604000 | F64: 89763000
A65: Retained earnings | B65: 50500000 | D65: 34734000 | F65: 33671000
A66: Treasury stock, at cost | B66: 12714000 | D66: 12659000 | F66: 12592000
A67: Foreign currency translation adjustment | B67: -2054000 | D67: -1995000 | F67: -1198000
... A73: Total stockholders' equity | B73: 142007000 | D73: 124110000 | F73: 123640000
A76: Refrences
A78: Mergent Online. (2018). Company A Retrieved November 12, 2018 from:
A79: http://www.mergentonline.com.ezproxy.snhu.edu/companyfinancials.php?pagetype=asreported&compnumber=37426&period=Annuals&dataarea=BS&range=3&currency=AsRep&scale=AsRep&Submit=Refresh

Sheet ATT 2015-2017 Income Statement
A1: AT&T Inc (NYS: T)
A3: Exchange rate used is that of the Year End reported date
A6: As Reported Annual Income Statement
A7: Report Date | B7: 12/31/2017 | D7: 12/31/2016 | F7: 12/31/2015
A8: Currency | B8: USD | D8: USD | F8: USD
A9: Audit Status | B9: Not Qualified | D9: Not Qualified | F9: Not Qualified
A10: Consolidated | B10: Yes | D10: Yes | F10: Yes
A11: Scale | B11: Thousands | D11: Thousands | F11: Thousands
A12: Service revenues | B12: 145597000 | D12: 148884000 | F12: 131677000
A13: Equipment revenues | B13: 14949000 | D13: 14902000 | F13: 15124000
A14: Total operating revenues | B14: 160546000 | D14: 163786000 | F14: 146801000
A15: Equipment expenses | B15: 18709000 | D15: 18757000 | F15: 19268000
A16: Broadcast, programming & operations | B16: 21159000 | D16: 19851000 | F16: 11996000
A17: Other cost of services (exclusive of depreciation & amortization) | B17: 37511000 | D17: 38276000 | F17: 35782000
A18: Selling, general & administrative expenses | B18: 34917000 | D18: 36347000 | F18: 32954000
A19: Asset abandonments & impairments | B19: 2914000 | D19: 361000 | F19: -
A20: Depreciation & amortization | B20: 24387000 | D20: 25847000 | F20: 22016000
A21: Total operating expenses | B21: 139597000 | D21: 139439000 | F21: 122016000
A22: Operating income (loss) | B22: 20949000 | D22: 24347000 | F22: 24785000
A23: Interest expense incurred | B23: 7203000 | D23: 5802000 | F23: 4917000
A24: Capitalized interest | B24: 903000 | D24: 892000 | F24: 797000
A25: Interest expense | B25: 6300000 | D25: 4910000 | F25: 4120000
A26: Equity in net income (loss) of affiliates | B26: -128000 | D26: 98000 | F26: 79000
A27: Other income (expense), net | B27: 618000 | D27: 277000 | F27: -52000
A28: Total other income (expense) | B28: -5810000 | D28: -4535000 | F28: -4093000
A29: U.S. income before income taxes | B29: 16438000 | D29: - | F29: -
A30: Foreign income (loss) before income taxes | B30: -1299000 | D30: - | F30: -
A31: Income (loss) before income taxes | B31: 15139000 | D31: 19812000 | F31: 20692000
A32: Current income tax provision (benefit)-federal | B32: 682000 | D32: 2915000 | F32: 2496000
A33: Deferred income tax provision (benefit)-federal | B33: -17970000 | D33: 3127000 | F33: 3828000
A34: Total income tax provision (benefit)-federal | B34: -17288000 | D34: 6042000 | F34: 6324000
A35: Current income tax provision (benefit)-state & local | B35: 79000 | D35: 282000 | F35: 72000
A36: Deferred income tax provision (benefit)-state & local | B36: 1041000 | D36: 339000 | F36: 671000
A37: Total income tax provision (benefit)-state & local | B37: 1120000 | D37: - | F37: -
A38: Current income tax provision (benefit) - foreign | B38: 471000 | D38: 335000 | F38: 320000
A39: Deferred income tax provision (benefit) - foreign | B39: 989000 | D39: -519000 | F39: -382000
A40: Income tax (benefit) expense | B40: -14708000 | D40: 6479000 | F40: 7005000
A41: Net income (loss) | B41: 29847000 | D41: 13333000 | F41: 13687000
A42: Less: net income (loss) attributable to noncontrolling interest | B42: -397000 | D42: -357000 | F42: -342000
A43: Net income (loss) attributable to AT&T | B43: 29450000 | D43: 12976000 | F43: 13345000
...

Sheet ATT 2015-2017 Cash Flow
A1: AT&T Inc (NYS: T)
A3: Exchange rate used is that of the Year End reported date
A6: As Reported Annual Cash Flow
A7: Report Date | B7: 12/31/2017 | D7: 12/31/2016 | F7: 12/31/2015
A8: Currency | B8: USD | D8: USD | F8: USD
A9: Audit Status | B9: Not Qualified | D9: Not Qualified | F9: Not Qualified
A10: Consolidated | B10: Yes | D10: Yes | F10: Yes
A11: Scale | B11: Thousands | D11: Thousands | F11: Thousands
A12: Net income (loss) | B12: 29847000 | D12: 13333000 | F12: 13687000
A13: Depreciation & amortization | B13: 24387000 | D13: 25847000 | F13: 22016000
A14: Undistributed earnings from investments in equity affiliates | B14: 174000 | D14: -37000 | F14: -49000
A15: Provision for uncollectible accounts | B15: 1642000 | D15: 1474000 | F15: 1416000
A16: Deferred income tax expense (benefit) | B16: -15940000 | D16: 2947000 | F16: 4117000
A17: Net loss (gain) from sale of investments, net of impairments | B17: -282000 | D17: -169000 | F17: 91000
A18: Actuarial loss (gain) on pension & postretirement benefits | B18: 1258000 | D18: 1024000 | F18: -2152000
A19: Asset abandonments & impairments | B19: 2914000 | D19: 361000 | F19: -
A20: Accounts receivable | B20: -986000 | D20: -1003000 | F20: -535000
A21: Other current assets | B21: -777000 | D21: 1708000 | F21: -1789000
A22: Accounts payable & accrued liabilities | B22: 816000 | D22: 118000 | F22: 1291000
A23: Equipment installment receivables &related sales | B23: -263000 | D23: -576000 | F23: -
A24: Deferred fulfillment costs | B24: -1422000 | D24: -2359000 | F24: -
A25: Retirement benefit funding | B25: -1066000 | D25: -910000 | F25: -735000
A26: Other operating activities, net | B26: -1151000 | D26: -2414000 | F26: -1478000
A27: Total adjustments | B27: 9304000 | D27: 26011000 | F27: 22193000
A28: Net cash flows from operating activities | B28: 39151000 | D28: 39344000 | F28: 35880000
A29: Construction & capital expenditures: capital expenditures | B29: - | D29: -21516000 | F29: -19218000
A30: Construction & capital expenditures: interest during constrution | B30: - | D30: -892000 | F30: -797000
A31: Capital expenditures: purchase of property & equipment | B31: -20647000 | D31: -21516000 | F31: -7775000
A32: Capital expenditures: interest during constrution | B32: -903000 | D32: - | F32: -
A33: Acquisitions, net of cash acquired | B33: 1123000 | D33: -2959000 | F33: -30759000
A34: Dispositions | B34: 59000 | D34: 646000 | F34: 83000
A35: Sales (purchases) of securities, net | B35: -4000 | D35: 506000 | F35: 1545000
A36: Return of advances to & investments in equity affiliates | B36: - | D36: - | F36: 1000
A37: Other investing activities | B37: 1000 | D37: - | F37: 1000
A38: Net cash flows from investing activities | B38: -20371000 | D38: -24215000 | F38: -49144000
A39: Net change in short-term borrowings with original maturities of three months or less | B39: - | D39: - | F39: -1000
A40: Issuance of long-term debt | B40: 48793000 | D40: 10140000 | F40: 33969000
A41: Repayment of long-term debt | B41: -12339000 | D41: -10823000 | F41: -10042000
A42: Purchase of treasury stock | B42: -463000 | D42: -512000 | F42: -269000
A43: Issuance of treasury stock | B43: 33000 | D43: 146000 | F43: 143000
...

Sheet ATT 2015-2017 Stock HIstory
A1: AT&T Inc (NYS: T)
A4: Issue: AT&T Inc(NYS:T)New York
A5: Date: From 01/01/2015 to 12/29/2017 Frequency: daily Adjusted Prices
A7: Historical Pricing
A8: Date | B8: Open | C8: High | D8: Low | E8: Close | F8: Volume | G8: Price Move (%)
A9: 12/29/2017 | B9: 39.22 | C9: 39.32 | D9: 38.88 | E9: 38.88 | F9: 26478964 | G9: -0.77
A10: 12/28/2017 | B10: 39 | C10: 39.2 | D10: 38.88 | E10: 39.18 | F10: 15627373 | G10: 0.75
A11: 12/27/2017 | B11: 39.08 | C11: 39.14 | D11: 38.71 | E11: 38.89 | F11: 16339045 | G11: -0.44
A12: 12/26/2017 | B12: 38.95 | C12: 39.325 | D12: 38.95 | E12: 39.06 | F12: 13577417 | G12: 0.31
A13: 12/22/2017 | B13: 38.78 | C13: 39.11 | D13: 38.7 | E13: 38.94 | F13: 19959903 | G13: 0.15
A14: 12/21/2017 | B14: 38.56 | C14: 39.29 | D14: 38.471 | E14: 38.88 | F14: 31969156 | G14: 0.86
A15: 12/20/2017 | B15: 38.27 | C15: 38.84 | D15: 38.18 | E15: 38.55 | F15: 26964263 | G15: 1.31
A16: 12/19/2017 | B16: 38.46 | C16: 38.6785 | D16: 38.03 | E16: 38.05 | F16: 29178883 | G16: -1.07
A17: 12/18/2017 | B17: 38.5 | C17: 38.89 | D17: 38.385 | E17: 38.46 | F17: 31496643 | G17: 0.58
A18: 12/15/2017 | B18: 38.14 | C18: 38.29 | D18: 37.93 | E18: 38.24 | F18: 46808393 | G18: 1.32
A19: 12/14/2017 | B19: 37.86 | C19: 38.1556 | D19: 37.68 | E19: 37.74 | F19: 34286067 | G19: -0.79
A20: 12/13/2017 | B20: 38.01 | C20: 38.19 | D20: 37.37 | E20: 38.04 | F20: 39667267 | G20: -0.16
... A763: 01/02/2015 | B763: 33.76 | C763: 33.97 | D763: 33.69 | E763: 33.87 | F763: 20558053 | G763: 0.83
A767: Refrences
A769: Mergent Online. (2018). Company A Retrieved November 12, 2018 from:
A770: http://www.mergentonline.com.ezproxy.snhu.edu/equitypricing.php?ddexchange=00206R102%7C1&timeperiod=3+years&datetype=userdefrange&datestartuserdef=01%2F01%2F2015&dateenduserdef=12%2F31%2F2017&frequency=daily&compnumber=37426&pagetype=report&selectedissue=AT%26T+Inc%28NYS%3AT%29&refreshequityreport=Refresh

Sheet RATIOS & AVERAGES
A1: Verizon Ratios | F1: Industry Averages
A2: Ratios | G2: 2017 | H2: 2016 | I2: 2015
B3: 2017 | C3: 2016 | D3: 2015 | F3: Current Ratio | G3: 1.8 | H3: 1.16 | I3: 1.89
F4: ROE | G4: 0.0463 | H4: 1.11.% | I4: 0.2121
A5: Current Ratio | B5: ='VZ 2015-2017 Balanace Sheet'!$B$24/'VZ 2015-2017 Balanace Sheet'!$B$58 -> 0.90543936 | C5: ='VZ 2015-2017 Balanace Sheet'!$D$24/'VZ 2015-2017 Balanace Sheet'!$D$58 -> 0.86997363 | D5: ='VZ 2015-2017 Balanace Sheet'!$F$24/'VZ 2015-2017 Balanace Sheet'!$F$58 -> 0.63562707 | F5: Debt/Equity | G5: 2.67 | H5: 2.45 | I5: 2
A6: Debt / Equity Ratio | B6: ='VZ 2015-2017 Balanace Sheet'!$B$75/'VZ 2015-2017 Balanace Sheet'!$B$87 -> 4.0150156 | C6: ='VZ 2015-2017 Balanace Sheet'!$D$75/'VZ 2015-2017 Balanace Sheet'!$D$87 -> 9.1606192 | D6: ='VZ 2015-2017 Balanace Sheet'!$F$75/'VZ 2015-2017 Balanace Sheet'!$F$87 -> 12.764656 | F6: Net Profit | G6: 0.0495 | H6: 0.0244 | I6: 0.0369
A7: Free Cash Flow (000) | B7: ='VZ 2015-2017 Cash Flow'!$B$25+'VZ 2015-2017 Cash Flow'!$B$26 -> 8058000 | C7: ='VZ 2015-2017 Cash Flow'!$D$25+'VZ 2015-2017 Cash Flow'!$D$26 -> 5656000 | D7: ='VZ 2015-2017 Cash Flow'!$F$25+'VZ 2015-2017 Cash Flow'!$F$26 -> 21155000
A8: Earnings per Share | B8: ='VZ 2015-2017 Income Statement'!$B$38/'VZ 2015-2017 Income Statement'!$B$41 -> 7.4804114 | C8: ='VZ 2015-2017 Income Statement'!$D$38/'VZ 2015-2017 Income Statement'!$D$41 -> 3.3352941 | D8: ='VZ 2015-2017 Income Statement'!$F$38/'VZ 2015-2017 Income Statement'!$F$41 -> 4.498164
A9: Price / earnings ratio | B9: =B14/B8 -> 7.0758141 | C9: =C14/C8 -> 16.004586 | D9: =D14/D8 -> 10.275303
A10: Return on Equity | B10: ='VZ 2015-2017 Income Statement'!$B$38/'VZ 2015-2017 Balanace Sheet'!$B$87 -> 0.68364401 | C10: ='VZ 2015-2017 Income Statement'!$D$38/'VZ 2015-2017 Balanace Sheet'!$D$87 -> 0.56624501 | D10: ='VZ 2015-2017 Income Statement'!$F$38/'VZ 2015-2017 Balanace Sheet'!$F$87 -> 1.0298733
A11: Net profit margin | B11: ='VZ 2015-2017 Income Statement'!$B$38/'VZ 2015-2017 Income Statement'!$B$14 -> 0.24239491 | C11: ='VZ 2015-2017 Income Statement'!$D$38/'VZ 2015-2017 Income Statement'!$D$14 -> 0.10801715 | D11: ='VZ 2015-2017 Income Statement'!$F$38/'VZ 2015-2017 Income Statement'!$F$14 -> 0.13960644
A12: Stock Data
A13: Number of Shares Outstanding | B13: 4079476 | C13: 4076684 | D13: 4073175
A14: Closing Price Last Business Day in December | B14: 52.93 | C14: 53.38 | D14: 46.22
A16: AT&T Ratios
A17: Ratios
B18: 2017 | C18: 2016 | D18: 2015
A20: Current Ratio | B20: ='ATT 2015-2017 Balance Sheet'!$B$18/'ATT 2015-2017 Balance Sheet'!$B$49 -> 0.97244099 | C20: ='ATT 2015-2017 Balance Sheet'!$D$18/'ATT 2015-2017 Balance Sheet'!$D$49 -> 0.75864046 | D20: ='ATT 2015-2017 Balance Sheet'!$F$18/'ATT 2015-2017 Balance Sheet'!$F$49 -> 0.75271876
A21: Debt / Equity Ratio | B21: ='ATT 2015-2017 Balance Sheet'!$B$56/'ATT 2015-2017 Balance Sheet'!$B$73 -> 1.1572951 | C21: ='ATT 2015-2017 Balance Sheet'!$D$56/'ATT 2015-2017 Balance Sheet'!$D$73 -> 0.99515752 | D21: ='ATT 2015-2017 Balance Sheet'!$F$56/'ATT 2015-2017 Balance Sheet'!$F$73 -> 1.0202766
A22: Free Cash Flow (000) | B22: ='ATT 2015-2017 Cash Flow'!$B$28+'ATT 2015-2017 Cash Flow'!$B$31 -> 18504000 | C22: ='ATT 2015-2017 Cash Flow'!$D$28+'ATT 2015-2017 Cash Flow'!$D$31 -> 17828000 | D22: ='ATT 2015-2017 Cash Flow'!$F$28+'ATT 2015-2017 Cash Flow'!$F$31 -> 28105000
A23: Earnings per Share | B23: ='ATT 2015-2017 Income Statement'!$B$41/'ATT 2015-2017 Income Statement'!$B$44 -> 4.842148 | C23: ='ATT 2015-2017 Income Statement'!$D$41/'ATT 2015-2017 Income Statement'!$D$44 -> 2.1616407 | D23: ='ATT 2015-2017 Income Statement'!$F$41/'ATT 2015-2017 Income Statement'!$F$44 -> 2.4319474
A24: Price / earnings ratio | B24: =B29/B23 -> 8.0294944 | C24: =C29/C23 -> 19.67487 | D24: =D29/D23 -> 14.284848
A25: Return on Equity | B25: ='ATT 2015-2017 Income Statement'!$B$41/'ATT 2015-2017 Balance Sheet'!$B$73 -> 0.21017978 | C25: ='ATT 2015-2017 Income Statement'!$D$41/'ATT 2015-2017 Balance Sheet'!$D$73 -> 0.10742889 | D25: ='ATT 2015-2017 Income Statement'!$F$41/'ATT 2015-2017 Balance Sheet'!$F$73 -> 0.11070042
A26: Net profit margin | B26: ='ATT 2015-2017 Income Statement'!$B$41/'ATT 2015-2017 Income Statement'!$B$14 -> 0.18590933 | C26: ='ATT 2015-2017 Income Statement'!$D$41/'ATT 2015-2017 Income Statement'!$D$14 -> 0.081405004 | D26: ='ATT 2015-2017 Income Statement'!$F$41/'ATT 2015-2017 Income Statement'!$F$14 -> 0.09323506
A27: Stock Data
A28: Number of Shares Outstanding | B28: 6139424.5 | C28: 6138993.9 | D28: 6144939.8
A29: Closing Price Last Business Day in December | B29: 38.88 | C29: 42.53 | D29: 34.74
A32: Technology, SNHU COCE Assistive. “FIN 320 CFA Level 1 Financial Statement Analysis CC.” YouTube, YouTube, 27 July 2017, www.youtube.com/watch?v=tatyB63u8hY.
A33: =HYPERLINK("https://www.youtube.com/watch?v=tatyB63u8hY","https://www.youtube.com/watch?v=tatyB63u8hY") -> https://www.youtube.com/watch?v=tatyB63u8hY
A35: Mergent Online. (2018). Company A Retrieved November 12, 2018 from:
A36: http://www.mergentonline.com.ezproxy.snhu.edu/companyfinancials.php?pagetype=asreported&compnumber=37426&period=Annuals&dataarea=BS&range=3&currency=AsRep&scale=AsRep&Submit=Refresh
